BEGIN:VCALENDAR
VERSION:2.0
PRODID:-//Photographic Society of Chattanooga - ECPv6.15.20//NONSGML v1.0//EN
CALSCALE:GREGORIAN
METHOD:PUBLISH
X-WR-CALNAME:Photographic Society of Chattanooga
X-ORIGINAL-URL:https://chattanoogaphoto.org
X-WR-CALDESC:Events for Photographic Society of Chattanooga
REFRESH-INTERVAL;VALUE=DURATION:PT1H
X-Robots-Tag:noindex
X-PUBLISHED-TTL:PT1H
BEGIN:VTIMEZONE
TZID:America/New_York
BEGIN:DAYLIGHT
TZOFFSETFROM:-0500
TZOFFSETTO:-0400
TZNAME:EDT
DTSTART:20210314T070000
END:DAYLIGHT
BEGIN:STANDARD
TZOFFSETFROM:-0400
TZOFFSETTO:-0500
TZNAME:EST
DTSTART:20211107T060000
END:STANDARD
BEGIN:DAYLIGHT
TZOFFSETFROM:-0500
TZOFFSETTO:-0400
TZNAME:EDT
DTSTART:20220313T070000
END:DAYLIGHT
BEGIN:STANDARD
TZOFFSETFROM:-0400
TZOFFSETTO:-0500
TZNAME:EST
DTSTART:20221106T060000
END:STANDARD
BEGIN:DAYLIGHT
TZOFFSETFROM:-0500
TZOFFSETTO:-0400
TZNAME:EDT
DTSTART:20230312T070000
END:DAYLIGHT
BEGIN:STANDARD
TZOFFSETFROM:-0400
TZOFFSETTO:-0500
TZNAME:EST
DTSTART:20231105T060000
END:STANDARD
BEGIN:DAYLIGHT
TZOFFSETFROM:-0500
TZOFFSETTO:-0400
TZNAME:EDT
DTSTART:20240310T070000
END:DAYLIGHT
BEGIN:STANDARD
TZOFFSETFROM:-0400
TZOFFSETTO:-0500
TZNAME:EST
DTSTART:20241103T060000
END:STANDARD
BEGIN:DAYLIGHT
TZOFFSETFROM:-0500
TZOFFSETTO:-0400
TZNAME:EDT
DTSTART:20250309T070000
END:DAYLIGHT
BEGIN:STANDARD
TZOFFSETFROM:-0400
TZOFFSETTO:-0500
TZNAME:EST
DTSTART:20251102T060000
END:STANDARD
BEGIN:DAYLIGHT
TZOFFSETFROM:-0500
TZOFFSETTO:-0400
TZNAME:EDT
DTSTART:20260308T070000
END:DAYLIGHT
BEGIN:STANDARD
TZOFFSETFROM:-0400
TZOFFSETTO:-0500
TZNAME:EST
DTSTART:20261101T060000
END:STANDARD
BEGIN:DAYLIGHT
TZOFFSETFROM:-0500
TZOFFSETTO:-0400
TZNAME:EDT
DTSTART:20270314T070000
END:DAYLIGHT
BEGIN:STANDARD
TZOFFSETFROM:-0400
TZOFFSETTO:-0500
TZNAME:EST
DTSTART:20271107T060000
END:STANDARD
END:VTIMEZONE
BEGIN:VEVENT
DTSTART;TZID=America/New_York:20260115T180000
DTEND;TZID=America/New_York:20260115T190000
DTSTAMP:20260422T185736
CREATED:20251231T164525Z
LAST-MODIFIED:20251231T164525Z
UID:7433-1768500000-1768503600@chattanoogaphoto.org
SUMMARY:Social Media 101
DESCRIPTION:Nichole Vild will be presenting Social Media 101 at continuing education this month. Topics will include setting up an Instagram\, preparing your images to post on social media\, and posting your images on Instagram and Facebook. Bring your devices if you want to follow along! \nCoffee and Cameras is 12 January\, this month. If you want to prepare for this continuing education block by setting up your accounts ahead of time\, feel free to bring your computer.
URL:https://chattanoogaphoto.org/event/social-media-101/
LOCATION:St\, John United Methodist Church\, 3921 Murray Hills Dr\,\, Chattanooga\, TN\, 37416\, United States
CATEGORIES:Boot Camp
END:VEVENT
BEGIN:VEVENT
DTSTART;TZID=America/New_York:20241121T180000
DTEND;TZID=America/New_York:20241121T185000
DTSTAMP:20260422T185736
CREATED:20240214T152906Z
LAST-MODIFIED:20240214T152906Z
UID:6074-1732212000-1732215000@chattanoogaphoto.org
SUMMARY:November Boot Camp - TBD
DESCRIPTION:
URL:https://chattanoogaphoto.org/event/november-boot-camp-tbd/
LOCATION:St\, John United Methodist Church\, 3921 Murray Hills Dr\,\, Chattanooga\, TN\, 37416\, United States
CATEGORIES:Boot Camp
END:VEVENT
BEGIN:VEVENT
DTSTART;TZID=America/New_York:20240815T180000
DTEND;TZID=America/New_York:20240815T185000
DTSTAMP:20260422T185736
CREATED:20240214T152742Z
LAST-MODIFIED:20240214T152742Z
UID:6071-1723744800-1723747800@chattanoogaphoto.org
SUMMARY:August Boot Camp - PSA (Photographic Society of USA)
DESCRIPTION:
URL:https://chattanoogaphoto.org/event/august-boot-camp-psa-photographic-society-of-usa/
LOCATION:St\, John United Methodist Church\, 3921 Murray Hills Dr\,\, Chattanooga\, TN\, 37416\, United States
CATEGORIES:Boot Camp
END:VEVENT
BEGIN:VEVENT
DTSTART;TZID=America/New_York:20240718T180000
DTEND;TZID=America/New_York:20240718T185000
DTSTAMP:20260422T185736
CREATED:20240214T152635Z
LAST-MODIFIED:20240214T152635Z
UID:6069-1721325600-1721328600@chattanoogaphoto.org
SUMMARY:July Boot Camp - Manual the Easy Way
DESCRIPTION:
URL:https://chattanoogaphoto.org/event/july-boot-camp-manual-the-easy-way/
LOCATION:St\, John United Methodist Church\, 3921 Murray Hills Dr\,\, Chattanooga\, TN\, 37416\, United States
CATEGORIES:Boot Camp
END:VEVENT
BEGIN:VEVENT
DTSTART;TZID=America/New_York:20240620T180000
DTEND;TZID=America/New_York:20240620T185000
DTSTAMP:20260422T185736
CREATED:20240214T145801Z
LAST-MODIFIED:20240214T145801Z
UID:6067-1718906400-1718909400@chattanoogaphoto.org
SUMMARY:June Boot Camp - Introduction to Flower Photography
DESCRIPTION:
URL:https://chattanoogaphoto.org/event/june-boot-camp-introduction-to-flower-photography/
LOCATION:St\, John United Methodist Church\, 3921 Murray Hills Dr\,\, Chattanooga\, TN\, 37416\, United States
CATEGORIES:Boot Camp
END:VEVENT
BEGIN:VEVENT
DTSTART;TZID=America/New_York:20240522T180000
DTEND;TZID=America/New_York:20240522T185000
DTSTAMP:20260422T185736
CREATED:20240214T145653Z
LAST-MODIFIED:20240214T145653Z
UID:6064-1716400800-1716403800@chattanoogaphoto.org
SUMMARY:May Boot Camp - Photoshop AI
DESCRIPTION:
URL:https://chattanoogaphoto.org/event/may-boot-camp-photoshop-ai/
LOCATION:St\, John United Methodist Church\, 3921 Murray Hills Dr\,\, Chattanooga\, TN\, 37416\, United States
CATEGORIES:Boot Camp
END:VEVENT
BEGIN:VEVENT
DTSTART;TZID=America/New_York:20240418T180000
DTEND;TZID=America/New_York:20240418T185000
DTSTAMP:20260422T185736
CREATED:20240214T145433Z
LAST-MODIFIED:20240214T145433Z
UID:6060-1713463200-1713466200@chattanoogaphoto.org
SUMMARY:April Boot Camp - Pixels
DESCRIPTION:
URL:https://chattanoogaphoto.org/event/april-boot-camp-pixels/
LOCATION:St\, John United Methodist Church\, 3921 Murray Hills Dr\,\, Chattanooga\, TN\, 37416\, United States
CATEGORIES:Boot Camp
END:VEVENT
BEGIN:VEVENT
DTSTART;TZID=America/New_York:20240321T180000
DTEND;TZID=America/New_York:20240321T185000
DTSTAMP:20260422T185736
CREATED:20240214T145312Z
LAST-MODIFIED:20240214T145503Z
UID:6058-1711044000-1711047000@chattanoogaphoto.org
SUMMARY:March Boot Camp - Introduction to Textures
DESCRIPTION:
URL:https://chattanoogaphoto.org/event/march-boot-camp-introduction-to-textures/
LOCATION:St\, John United Methodist Church\, 3921 Murray Hills Dr\,\, Chattanooga\, TN\, 37416\, United States
CATEGORIES:Boot Camp
END:VEVENT
BEGIN:VEVENT
DTSTART;TZID=America/New_York:20240215T180000
DTEND;TZID=America/New_York:20240215T185000
DTSTAMP:20260422T185736
CREATED:20240214T153508Z
LAST-MODIFIED:20240214T153508Z
UID:6076-1708020000-1708023000@chattanoogaphoto.org
SUMMARY:February Boot Camp - 2023 Lightroom Updates
DESCRIPTION:
URL:https://chattanoogaphoto.org/event/february-boot-camp-2023-lightroom-updates/
LOCATION:St\, John United Methodist Church\, 3921 Murray Hills Dr\,\, Chattanooga\, TN\, 37416\, United States
CATEGORIES:Boot Camp
END:VEVENT
BEGIN:VEVENT
DTSTART;TZID=America/New_York:20230817T180000
DTEND;TZID=America/New_York:20230817T185000
DTSTAMP:20260422T185736
CREATED:20230621T125359Z
LAST-MODIFIED:20230801T151305Z
UID:5496-1692295200-1692298200@chattanoogaphoto.org
SUMMARY:August Boot Camp - Sandhill Crane Photography from the Hiwassee Wildlife Refuge
DESCRIPTION:
URL:https://chattanoogaphoto.org/event/august-boot-camp-iphone-photography/
LOCATION:St\, John United Methodist Church\, 3921 Murray Hills Dr\,\, Chattanooga\, TN\, 37416\, United States
CATEGORIES:Boot Camp
END:VEVENT
BEGIN:VEVENT
DTSTART;TZID=America/New_York:20230720T180000
DTEND;TZID=America/New_York:20230720T185000
DTSTAMP:20260422T185736
CREATED:20230621T125235Z
LAST-MODIFIED:20230621T125235Z
UID:5494-1689876000-1689879000@chattanoogaphoto.org
SUMMARY:July Boot Camp - TBD
DESCRIPTION:
URL:https://chattanoogaphoto.org/event/july-boot-camp-tbd/
LOCATION:St\, John United Methodist Church\, 3921 Murray Hills Dr\,\, Chattanooga\, TN\, 37416\, United States
CATEGORIES:Boot Camp
END:VEVENT
BEGIN:VEVENT
DTSTART;TZID=America/New_York:20230621T080000
DTEND;TZID=America/New_York:20230621T170000
DTSTAMP:20260422T185736
CREATED:20230621T125452Z
LAST-MODIFIED:20230801T151355Z
UID:5499-1687334400-1687366800@chattanoogaphoto.org
SUMMARY:November Boot Camp - iPhone Photography
DESCRIPTION:
URL:https://chattanoogaphoto.org/event/november-boot-camp-sandhill-crane-photography-hiwassee/
LOCATION:St\, John United Methodist Church\, 3921 Murray Hills Dr\,\, Chattanooga\, TN\, 37416\, United States
CATEGORIES:Boot Camp
END:VEVENT
BEGIN:VEVENT
DTSTART;TZID=America/New_York:20221117T180000
DTEND;TZID=America/New_York:20221117T185000
DTSTAMP:20260422T185736
CREATED:20220131T220644Z
LAST-MODIFIED:20220201T205735Z
UID:2370-1668708000-1668711000@chattanoogaphoto.org
SUMMARY:November Boot Camp - Birds Photography
DESCRIPTION:
URL:https://chattanoogaphoto.org/event/november-birds-photography/
LOCATION:St\, John United Methodist Church\, 3921 Murray Hills Dr\,\, Chattanooga\, TN\, 37416\, United States
CATEGORIES:Boot Camp
END:VEVENT
BEGIN:VEVENT
DTSTART;TZID=America/New_York:20220818T180000
DTEND;TZID=America/New_York:20220818T185000
DTSTAMP:20260422T185736
CREATED:20220131T220342Z
LAST-MODIFIED:20220201T205725Z
UID:2368-1660845600-1660848600@chattanoogaphoto.org
SUMMARY:August Boot Camp - Flower Photography
DESCRIPTION:
URL:https://chattanoogaphoto.org/event/august-flower-photography/
LOCATION:St\, John United Methodist Church\, 3921 Murray Hills Dr\,\, Chattanooga\, TN\, 37416\, United States
CATEGORIES:Boot Camp
END:VEVENT
BEGIN:VEVENT
DTSTART;TZID=America/New_York:20220721T180000
DTEND;TZID=America/New_York:20220721T185000
DTSTAMP:20260422T185736
CREATED:20220131T220246Z
LAST-MODIFIED:20220201T205712Z
UID:2366-1658426400-1658429400@chattanoogaphoto.org
SUMMARY:July Boot Camp - Aviation/Action Photography
DESCRIPTION:
URL:https://chattanoogaphoto.org/event/july-aviation-action-photography/
LOCATION:St\, John United Methodist Church\, 3921 Murray Hills Dr\,\, Chattanooga\, TN\, 37416\, United States
CATEGORIES:Boot Camp
END:VEVENT
BEGIN:VEVENT
DTSTART;TZID=America/New_York:20220616T180000
DTEND;TZID=America/New_York:20220616T185000
DTSTAMP:20260422T185736
CREATED:20220131T220057Z
LAST-MODIFIED:20220222T170553Z
UID:2364-1655402400-1655405400@chattanoogaphoto.org
SUMMARY:June Boot Camp - Off Camera Flash
DESCRIPTION:
URL:https://chattanoogaphoto.org/event/june-african-safari/
LOCATION:St\, John United Methodist Church\, 3921 Murray Hills Dr\,\, Chattanooga\, TN\, 37416\, United States
CATEGORIES:Boot Camp
END:VEVENT
BEGIN:VEVENT
DTSTART;TZID=America/New_York:20220519T180000
DTEND;TZID=America/New_York:20220519T185000
DTSTAMP:20260422T185736
CREATED:20220131T215947Z
LAST-MODIFIED:20220201T205646Z
UID:2362-1652983200-1652986200@chattanoogaphoto.org
SUMMARY:May Boot Camp - Photo Critique
DESCRIPTION:
URL:https://chattanoogaphoto.org/event/may-photo-critique/
LOCATION:St\, John United Methodist Church\, 3921 Murray Hills Dr\,\, Chattanooga\, TN\, 37416\, United States
CATEGORIES:Boot Camp
END:VEVENT
BEGIN:VEVENT
DTSTART;TZID=America/New_York:20220421T180000
DTEND;TZID=America/New_York:20220421T185000
DTSTAMP:20260422T185736
CREATED:20220131T215547Z
LAST-MODIFIED:20220222T170452Z
UID:2359-1650564000-1650567000@chattanoogaphoto.org
SUMMARY:April Boot Camp - African Safari
DESCRIPTION:
URL:https://chattanoogaphoto.org/event/april-macro-photography/
LOCATION:St\, John United Methodist Church\, 3921 Murray Hills Dr\,\, Chattanooga\, TN\, 37416\, United States
CATEGORIES:Boot Camp
END:VEVENT
BEGIN:VEVENT
DTSTART;TZID=America/New_York:20220317T180000
DTEND;TZID=America/New_York:20220317T185000
DTSTAMP:20260422T185736
CREATED:20220131T215448Z
LAST-MODIFIED:20220131T215708Z
UID:2357-1647540000-1647543000@chattanoogaphoto.org
SUMMARY:March Boot Camp - Exposure
DESCRIPTION:
URL:https://chattanoogaphoto.org/event/march-boot-camp-exposure/
LOCATION:St\, John United Methodist Church\, 3921 Murray Hills Dr\,\, Chattanooga\, TN\, 37416\, United States
CATEGORIES:Boot Camp
END:VEVENT
BEGIN:VEVENT
DTSTART;TZID=America/New_York:20220217T180000
DTEND;TZID=America/New_York:20220217T185000
DTSTAMP:20260422T185736
CREATED:20220131T214958Z
LAST-MODIFIED:20220202T225611Z
UID:2336-1645120800-1645123800@chattanoogaphoto.org
SUMMARY:February Boot Camp - Fireworks
DESCRIPTION:
URL:https://chattanoogaphoto.org/event/february-boot-camp-fireworks/
LOCATION:St\, John United Methodist Church\, 3921 Murray Hills Dr\,\, Chattanooga\, TN\, 37416\, United States
CATEGORIES:Boot Camp
END:VEVENT
END:VCALENDAR