BEGIN:VCALENDAR
VERSION:2.0
PRODID:-//Photographic Society of Chattanooga - ECPv6.15.20//NONSGML v1.0//EN
CALSCALE:GREGORIAN
METHOD:PUBLISH
X-ORIGINAL-URL:https://chattanoogaphoto.org
X-WR-CALDESC:Events for Photographic Society of Chattanooga
REFRESH-INTERVAL;VALUE=DURATION:PT1H
X-Robots-Tag:noindex
X-PUBLISHED-TTL:PT1H
BEGIN:VTIMEZONE
TZID:America/New_York
BEGIN:DAYLIGHT
TZOFFSETFROM:-0500
TZOFFSETTO:-0400
TZNAME:EDT
DTSTART:20210314T070000
END:DAYLIGHT
BEGIN:STANDARD
TZOFFSETFROM:-0400
TZOFFSETTO:-0500
TZNAME:EST
DTSTART:20211107T060000
END:STANDARD
BEGIN:DAYLIGHT
TZOFFSETFROM:-0500
TZOFFSETTO:-0400
TZNAME:EDT
DTSTART:20220313T070000
END:DAYLIGHT
BEGIN:STANDARD
TZOFFSETFROM:-0400
TZOFFSETTO:-0500
TZNAME:EST
DTSTART:20221106T060000
END:STANDARD
BEGIN:DAYLIGHT
TZOFFSETFROM:-0500
TZOFFSETTO:-0400
TZNAME:EDT
DTSTART:20230312T070000
END:DAYLIGHT
BEGIN:STANDARD
TZOFFSETFROM:-0400
TZOFFSETTO:-0500
TZNAME:EST
DTSTART:20231105T060000
END:STANDARD
END:VTIMEZONE
BEGIN:VEVENT
DTSTART;TZID=America/New_York:20221117T180000
DTEND;TZID=America/New_York:20221117T185000
DTSTAMP:20260422T233021
CREATED:20220131T220644Z
LAST-MODIFIED:20220201T205735Z
UID:2370-1668708000-1668711000@chattanoogaphoto.org
SUMMARY:November Boot Camp - Birds Photography
DESCRIPTION:
URL:https://chattanoogaphoto.org/event/november-birds-photography/
LOCATION:St\, John United Methodist Church\, 3921 Murray Hills Dr\,\, Chattanooga\, TN\, 37416\, United States
CATEGORIES:Boot Camp
END:VEVENT
BEGIN:VEVENT
DTSTART;TZID=America/New_York:20220818T180000
DTEND;TZID=America/New_York:20220818T185000
DTSTAMP:20260422T233021
CREATED:20220131T220342Z
LAST-MODIFIED:20220201T205725Z
UID:2368-1660845600-1660848600@chattanoogaphoto.org
SUMMARY:August Boot Camp - Flower Photography
DESCRIPTION:
URL:https://chattanoogaphoto.org/event/august-flower-photography/
LOCATION:St\, John United Methodist Church\, 3921 Murray Hills Dr\,\, Chattanooga\, TN\, 37416\, United States
CATEGORIES:Boot Camp
END:VEVENT
BEGIN:VEVENT
DTSTART;TZID=America/New_York:20220721T180000
DTEND;TZID=America/New_York:20220721T185000
DTSTAMP:20260422T233021
CREATED:20220131T220246Z
LAST-MODIFIED:20220201T205712Z
UID:2366-1658426400-1658429400@chattanoogaphoto.org
SUMMARY:July Boot Camp - Aviation/Action Photography
DESCRIPTION:
URL:https://chattanoogaphoto.org/event/july-aviation-action-photography/
LOCATION:St\, John United Methodist Church\, 3921 Murray Hills Dr\,\, Chattanooga\, TN\, 37416\, United States
CATEGORIES:Boot Camp
END:VEVENT
BEGIN:VEVENT
DTSTART;TZID=America/New_York:20220616T180000
DTEND;TZID=America/New_York:20220616T185000
DTSTAMP:20260422T233021
CREATED:20220131T220057Z
LAST-MODIFIED:20220222T170553Z
UID:2364-1655402400-1655405400@chattanoogaphoto.org
SUMMARY:June Boot Camp - Off Camera Flash
DESCRIPTION:
URL:https://chattanoogaphoto.org/event/june-african-safari/
LOCATION:St\, John United Methodist Church\, 3921 Murray Hills Dr\,\, Chattanooga\, TN\, 37416\, United States
CATEGORIES:Boot Camp
END:VEVENT
BEGIN:VEVENT
DTSTART;TZID=America/New_York:20220519T180000
DTEND;TZID=America/New_York:20220519T185000
DTSTAMP:20260422T233021
CREATED:20220131T215947Z
LAST-MODIFIED:20220201T205646Z
UID:2362-1652983200-1652986200@chattanoogaphoto.org
SUMMARY:May Boot Camp - Photo Critique
DESCRIPTION:
URL:https://chattanoogaphoto.org/event/may-photo-critique/
LOCATION:St\, John United Methodist Church\, 3921 Murray Hills Dr\,\, Chattanooga\, TN\, 37416\, United States
CATEGORIES:Boot Camp
END:VEVENT
BEGIN:VEVENT
DTSTART;TZID=America/New_York:20220421T180000
DTEND;TZID=America/New_York:20220421T185000
DTSTAMP:20260422T233021
CREATED:20220131T215547Z
LAST-MODIFIED:20220222T170452Z
UID:2359-1650564000-1650567000@chattanoogaphoto.org
SUMMARY:April Boot Camp - African Safari
DESCRIPTION:
URL:https://chattanoogaphoto.org/event/april-macro-photography/
LOCATION:St\, John United Methodist Church\, 3921 Murray Hills Dr\,\, Chattanooga\, TN\, 37416\, United States
CATEGORIES:Boot Camp
END:VEVENT
BEGIN:VEVENT
DTSTART;TZID=America/New_York:20220317T180000
DTEND;TZID=America/New_York:20220317T185000
DTSTAMP:20260422T233021
CREATED:20220131T215448Z
LAST-MODIFIED:20220131T215708Z
UID:2357-1647540000-1647543000@chattanoogaphoto.org
SUMMARY:March Boot Camp - Exposure
DESCRIPTION:
URL:https://chattanoogaphoto.org/event/march-boot-camp-exposure/
LOCATION:St\, John United Methodist Church\, 3921 Murray Hills Dr\,\, Chattanooga\, TN\, 37416\, United States
CATEGORIES:Boot Camp
END:VEVENT
BEGIN:VEVENT
DTSTART;TZID=America/New_York:20220217T180000
DTEND;TZID=America/New_York:20220217T185000
DTSTAMP:20260422T233021
CREATED:20220131T214958Z
LAST-MODIFIED:20220202T225611Z
UID:2336-1645120800-1645123800@chattanoogaphoto.org
SUMMARY:February Boot Camp - Fireworks
DESCRIPTION:
URL:https://chattanoogaphoto.org/event/february-boot-camp-fireworks/
LOCATION:St\, John United Methodist Church\, 3921 Murray Hills Dr\,\, Chattanooga\, TN\, 37416\, United States
CATEGORIES:Boot Camp
END:VEVENT
END:VCALENDAR