BEGIN:VCALENDAR
VERSION:2.0
PRODID:-//Photographic Society of Chattanooga - ECPv6.15.20//NONSGML v1.0//EN
CALSCALE:GREGORIAN
METHOD:PUBLISH
X-WR-CALNAME:Photographic Society of Chattanooga
X-ORIGINAL-URL:https://chattanoogaphoto.org
X-WR-CALDESC:Events for Photographic Society of Chattanooga
REFRESH-INTERVAL;VALUE=DURATION:PT1H
X-Robots-Tag:noindex
X-PUBLISHED-TTL:PT1H
BEGIN:VTIMEZONE
TZID:America/New_York
BEGIN:DAYLIGHT
TZOFFSETFROM:-0500
TZOFFSETTO:-0400
TZNAME:EDT
DTSTART:20250309T070000
END:DAYLIGHT
BEGIN:STANDARD
TZOFFSETFROM:-0400
TZOFFSETTO:-0500
TZNAME:EST
DTSTART:20251102T060000
END:STANDARD
BEGIN:DAYLIGHT
TZOFFSETFROM:-0500
TZOFFSETTO:-0400
TZNAME:EDT
DTSTART:20260308T070000
END:DAYLIGHT
BEGIN:STANDARD
TZOFFSETFROM:-0400
TZOFFSETTO:-0500
TZNAME:EST
DTSTART:20261101T060000
END:STANDARD
BEGIN:DAYLIGHT
TZOFFSETFROM:-0500
TZOFFSETTO:-0400
TZNAME:EDT
DTSTART:20270314T070000
END:DAYLIGHT
BEGIN:STANDARD
TZOFFSETFROM:-0400
TZOFFSETTO:-0500
TZNAME:EST
DTSTART:20271107T060000
END:STANDARD
END:VTIMEZONE
BEGIN:VEVENT
DTSTART;TZID=America/New_York:20260103T080000
DTEND;TZID=America/New_York:20260103T110000
DTSTAMP:20260423T021150
CREATED:20251231T165651Z
LAST-MODIFIED:20251231T165651Z
UID:7443-1767427200-1767438000@chattanoogaphoto.org
SUMMARY:Field Trip - Wheeler National Wildlife Refuge
DESCRIPTION:Join us for a Saturday bird walk at Wheeler National Wildlife Refuge in Decatur\, Alabama on January 3rd at 9:00am CST. The walks are each Saturday beginning December 6 through February 28 (excluding December 27 and January 10). Please meet at the outdoor classroom in the Visitor Center parking lot to walk around the property and enjoy spotting some of the refuge’s resident winter birds\, including Sandhill Cranes and\, if we are lucky\, Endangered Whooping Cranes. Anyone is welcome to join this free event – registration is not required. Please remember to dress for the weather and bring a long lens if you have one. \nMary Jane and I will leave home at 6:00 am EST to arrive at the Cracker Barrel in Huntsville (2001 Drake Ave. SW) at 8:00 EST (7:00 CST). It is about 30 minutes to the NWR\, so that gives us an hour at the restaurant. \nIf you do not want to leave home so early\, the walk will finish about 10:00 CST and we will be hanging around to photograph more birds\, so join us. \nPlease let Martin and Mary Jane know if you plan to meet them there. Email them at fieldtrips@chattanoogaphoto.org. Please give your name and phone number so we can reach you via text to our location at the refuge. \nWhooping Crane Walk Times: \nDecember 6\, February 7\, 14\, 21\, 28 | Walks begin at 9 a.m. CST December 13\, 20\, January 3\, 17\, 24\, and 31 | Walks begin at 9 a.m. and 1 p.m. CST \nAddress: 3121 Visitor Center Road\, Decatur\, Alabama \nFor more information about Wheeler NWR\, see https://www.fws.gov/refuge/wheeler.
URL:https://chattanoogaphoto.org/event/field-trip-wheeler-national-wildlife-refuge/
CATEGORIES:Fieldtrips
ORGANIZER;CN="Martin Fish":MAILTO:fieldtrips@chattanoogaphoto.org
END:VEVENT
END:VCALENDAR