BEGIN:VCALENDAR
VERSION:2.0
PRODID:-//Photographic Society of Chattanooga - ECPv6.15.20//NONSGML v1.0//EN
CALSCALE:GREGORIAN
METHOD:PUBLISH
X-WR-CALNAME:Photographic Society of Chattanooga
X-ORIGINAL-URL:https://chattanoogaphoto.org
X-WR-CALDESC:Events for Photographic Society of Chattanooga
REFRESH-INTERVAL;VALUE=DURATION:PT1H
X-Robots-Tag:noindex
X-PUBLISHED-TTL:PT1H
BEGIN:VTIMEZONE
TZID:America/New_York
BEGIN:DAYLIGHT
TZOFFSETFROM:-0500
TZOFFSETTO:-0400
TZNAME:EDT
DTSTART:20220313T070000
END:DAYLIGHT
BEGIN:STANDARD
TZOFFSETFROM:-0400
TZOFFSETTO:-0500
TZNAME:EST
DTSTART:20221106T060000
END:STANDARD
BEGIN:DAYLIGHT
TZOFFSETFROM:-0500
TZOFFSETTO:-0400
TZNAME:EDT
DTSTART:20230312T070000
END:DAYLIGHT
BEGIN:STANDARD
TZOFFSETFROM:-0400
TZOFFSETTO:-0500
TZNAME:EST
DTSTART:20231105T060000
END:STANDARD
BEGIN:DAYLIGHT
TZOFFSETFROM:-0500
TZOFFSETTO:-0400
TZNAME:EDT
DTSTART:20240310T070000
END:DAYLIGHT
BEGIN:STANDARD
TZOFFSETFROM:-0400
TZOFFSETTO:-0500
TZNAME:EST
DTSTART:20241103T060000
END:STANDARD
BEGIN:DAYLIGHT
TZOFFSETFROM:-0500
TZOFFSETTO:-0400
TZNAME:EDT
DTSTART:20250309T070000
END:DAYLIGHT
BEGIN:STANDARD
TZOFFSETFROM:-0400
TZOFFSETTO:-0500
TZNAME:EST
DTSTART:20251102T060000
END:STANDARD
END:VTIMEZONE
BEGIN:VEVENT
DTSTART;TZID=America/New_York:20240518T090000
DTEND;TZID=America/New_York:20240518T130000
DTSTAMP:20260423T030409
CREATED:20240318T155455Z
LAST-MODIFIED:20240318T164015Z
UID:6193-1716022800-1716037200@chattanoogaphoto.org
SUMMARY:Creative Floral Portraits "Hands-On" Workshop
DESCRIPTION:Hazel is the owner of Meredith Images\, an expert in photography craftsmanship\, award-winning photographer\, teacher\, speaker\, workshop leader and highly respected competition judge. You can view her work on her website at https://meredithimages.com. \nHazel will guide participants through how to add drama and creativity to their floral images with the addition of textures and the use of plug-in software. Get a subtle effect with one texture\, or go wild with two or more! Learn how to choose textures; how to blend them with your images; and how to mask off certain areas. Learn how to add a subtle vignette to your photos as well as creative borders. Hazel will also demonstrate a few of her favorite plug-ins\, i.e. the Nik Collection\, Smart Photo Editor and JixiPix desktop apps. \nThe week prior to the workshop\, Ms. Meredith will send a list of the software she will use during the workshop\, and the participants will be able to download a trial version if they don’t already own the products. If they don’t wish to download the software\, they can watch that portion of the demo and decide if they wish to obtain the software later. The day of the workshop Hazel will supply a USB flash drive to each participant with the images and textures that will be used in the projects\, along with detailed notes so they can replicate the projects at home and get familiar with the techniques discussed. \nThe workshop will take place from 9 a.m. to 1 p.m. on Saturday May 18\, 2024\, at St. John’s United Methodist Church at 3921 Murray Hills Dr\, Chattanooga\, Tennessee. Participants need to bring note-taking materials\, laptop (suggested to follow along\, but not required) and a bottle of water. \nThe cost of the workshop is $79 per person. To register and pay\, go to the workshop page on Hazel’s website at https://meredithimages.com/product/creative-floral-portraits-hands-on-workshop/. The seating is limited to 20 people\, so sign up early.
URL:https://chattanoogaphoto.org/event/creative-floral-portraits-hands-on-workshop/
LOCATION:St\, John United Methodist Church\, 3921 Murray Hills Dr\,\, Chattanooga\, TN\, 37416\, United States
CATEGORIES:Seminars
END:VEVENT
BEGIN:VEVENT
DTSTART;TZID=America/New_York:20240413T100000
DTEND;TZID=America/New_York:20240413T130000
DTSTAMP:20260423T030409
CREATED:20240318T163048Z
LAST-MODIFIED:20240318T163110Z
UID:6205-1713002400-1713013200@chattanoogaphoto.org
SUMMARY:Beginning Photography Free Class
DESCRIPTION:Professional Photographer\, Artist and PSC President Lin Blackwell-Prabish will instruct a class on beginning photography. Advanced members of the club will also be on hand to assist attendees with questions about their specific camera models. \n  \nThis class is for those who need help learning how to use their camera\, need one-on-one assistance with their cameras and have questions about how to capture the images they want. Attendees need to bring their camera with a lens and fully charged battery\, their camera’s manual (or an electronic device to access their manual online)\, a bottle of water and note-taking materials (paper & pen). The class is FREE! Seating is limited\, so sign-up early! Please register at https://chattanoogaphoto.org go to Education and Workshops and click on the Register button at the bottom of the page. \nThe seminar will be from 10:00 a.m. to 1:00 p.m. at the St. John United Methodist Church\, 3921 Murray Hills Drive\, Chattanooga\, TN 37416. For more information call 423-800-1002 or e-mail Lin Prabish at linstouch@gmail.com. For more information about the Photographic Society of Chattanooga\, visit https://chattanoogaphoto.org.
URL:https://chattanoogaphoto.org/event/beginning-photography-free-class/
LOCATION:St\, John United Methodist Church\, 3921 Murray Hills Dr\,\, Chattanooga\, TN\, 37416\, United States
CATEGORIES:Seminars
END:VEVENT
BEGIN:VEVENT
DTSTART;TZID=America/New_York:20231021T100000
DTEND;TZID=America/New_York:20231021T130000
DTSTAMP:20260423T030409
CREATED:20230918T141517Z
LAST-MODIFIED:20231009T195301Z
UID:5677-1697882400-1697893200@chattanoogaphoto.org
SUMMARY:Karen Fox Workshop - Editing and Creativity
DESCRIPTION:$30.00 — sign up now! \nOctober 21\, 2023 \nEditing can be a time consuming process. It is more daunting if you are looking for the right tools for the job. Karen will take a deep dive into shortcuts\, layers\, blend modes\, masking and adjustments for Photoshop. She will look at some popular plug-ins for creative effects. The class will utilize Bridge and Camera Raw\, but Lightroom users are encouraged to attend! You will walk away from this class with a toolbox of tricks to conquer most editing projects! \n \nItems to bring:\nLaptop (suggested to follow along \,but not required)\nSoftware: Adobe Photoshop\nBridge\nCamera Raw\nNote-taking materials
URL:https://chattanoogaphoto.org/event/karen-fox-workshop-editing-and-creativity/
LOCATION:St\, John United Methodist Church\, 3921 Murray Hills Dr\,\, Chattanooga\, TN\, 37416\, United States
CATEGORIES:Seminars
END:VEVENT
BEGIN:VEVENT
DTSTART;VALUE=DATE:20230421
DTEND;VALUE=DATE:20230423
DTSTAMP:20260423T030409
CREATED:20230313T152140Z
LAST-MODIFIED:20230324T154418Z
UID:5249-1682035200-1682207999@chattanoogaphoto.org
SUMMARY:Light Painting Workshop
DESCRIPTION:with Kathryn Northcott\, M.Photog.\, Cr.Photog.\, C.P.P. \n\n\n\nFriday evening\, you can join her as she Light Paints a 2016 Cam Am Spyder RT.\, dark red\, owned by Randy Ware. We will gather at Lin Prabishs’ home at 1767 Colonial Shores Drive in Hixson. We will start setting up your cameras and hers at 7pm. This is a rain or shine class as we have a large garage just incase. Kathryn will explain how and why she is doing things as she does them. It will start prior to sunset and continue with pre-darkness set-up photos. As darkness ascends\, she will demonstrate how to paint light onto the subject throughout the evening. Probably lasting roughly an hour after darkness ascends. If you intend to photograph along with Kathryn you will need: a camera\, knowledge of long exposure\, use of bulb setting\, a tripod and a small flashlight to get around in the dark. The following morning she will instruct how she assembles the finished light painting from images captured the night before. The classroom portion will take place at St. John united Methodist Church\, 3921 Murray Hills Drive\, just off Hwy153\, 10 am until 1pm. You may bring your laptops. \n\n$25.00 is the cost of this Workshop. Click the link below to pay online\, or you can pay the night of the workshop. \n  \n   \n\n\n\n\n\n\n\n\n\n 
URL:https://chattanoogaphoto.org/event/light-painting-workshop/
LOCATION:Lin’s Place\, 1767 Colonial Shores Drive\, Hixson\, TN\, 37343\, United States
CATEGORIES:Seminars
END:VEVENT
END:VCALENDAR