BEGIN:VCALENDAR
VERSION:2.0
PRODID:-//Photographic Society of Chattanooga - ECPv6.15.20//NONSGML v1.0//EN
CALSCALE:GREGORIAN
METHOD:PUBLISH
X-ORIGINAL-URL:https://chattanoogaphoto.org
X-WR-CALDESC:Events for Photographic Society of Chattanooga
REFRESH-INTERVAL;VALUE=DURATION:PT1H
X-Robots-Tag:noindex
X-PUBLISHED-TTL:PT1H
BEGIN:VTIMEZONE
TZID:America/New_York
BEGIN:DAYLIGHT
TZOFFSETFROM:-0500
TZOFFSETTO:-0400
TZNAME:EDT
DTSTART:20240310T070000
END:DAYLIGHT
BEGIN:STANDARD
TZOFFSETFROM:-0400
TZOFFSETTO:-0500
TZNAME:EST
DTSTART:20241103T060000
END:STANDARD
BEGIN:DAYLIGHT
TZOFFSETFROM:-0500
TZOFFSETTO:-0400
TZNAME:EDT
DTSTART:20250309T070000
END:DAYLIGHT
BEGIN:STANDARD
TZOFFSETFROM:-0400
TZOFFSETTO:-0500
TZNAME:EST
DTSTART:20251102T060000
END:STANDARD
BEGIN:DAYLIGHT
TZOFFSETFROM:-0500
TZOFFSETTO:-0400
TZNAME:EDT
DTSTART:20260308T070000
END:DAYLIGHT
BEGIN:STANDARD
TZOFFSETFROM:-0400
TZOFFSETTO:-0500
TZNAME:EST
DTSTART:20261101T060000
END:STANDARD
END:VTIMEZONE
BEGIN:VEVENT
DTSTART;TZID=America/New_York:20251209T173000
DTEND;TZID=America/New_York:20251209T193000
DTSTAMP:20260422T195940
CREATED:20251122T151514Z
LAST-MODIFIED:20251122T151514Z
UID:7374-1765301400-1765308600@chattanoogaphoto.org
SUMMARY:Coffee and Cameras...and Cookies!
DESCRIPTION:Please note the change in venue for December. \nAlso\, this is a hosted event\, so please give PSC Communications a heads up if you are planning to attend so we can give Morning Pointe an idea of our numbers. This is not mandatory\, so if you decide to come last minute\, please do! \nAn informal hangout to talk all things photography! \nBring your cameras\, your Ipads\, a friend\, or just yourself. Let’s hang out! \nThis is open to PSC members and non-members. \nParking and entry instructions: \nThere is plenty of parking in front or behind the residence. Please enter through the front entrance and let the visitor control person know that you are there for the Photography social. The host is Mike Sobel. \nQuestions? Contact: Communications@chattanoogaphoto.org
URL:https://chattanoogaphoto.org/event/coffee-and-cameras-and-cookies/
LOCATION:Morning Pointe Residence\, 7719 Shallowford Rd\, Chattanooga\, 37421\, United States
CATEGORIES:Social
END:VEVENT
END:VCALENDAR