BEGIN:VCALENDAR
VERSION:2.0
PRODID:-//Photographic Society of Chattanooga - ECPv6.15.20//NONSGML v1.0//EN
CALSCALE:GREGORIAN
METHOD:PUBLISH
X-WR-CALNAME:Photographic Society of Chattanooga
X-ORIGINAL-URL:https://chattanoogaphoto.org
X-WR-CALDESC:Events for Photographic Society of Chattanooga
REFRESH-INTERVAL;VALUE=DURATION:PT1H
X-Robots-Tag:noindex
X-PUBLISHED-TTL:PT1H
BEGIN:VTIMEZONE
TZID:America/New_York
BEGIN:DAYLIGHT
TZOFFSETFROM:-0500
TZOFFSETTO:-0400
TZNAME:EDT
DTSTART:20250309T070000
END:DAYLIGHT
BEGIN:STANDARD
TZOFFSETFROM:-0400
TZOFFSETTO:-0500
TZNAME:EST
DTSTART:20251102T060000
END:STANDARD
BEGIN:DAYLIGHT
TZOFFSETFROM:-0500
TZOFFSETTO:-0400
TZNAME:EDT
DTSTART:20260308T070000
END:DAYLIGHT
BEGIN:STANDARD
TZOFFSETFROM:-0400
TZOFFSETTO:-0500
TZNAME:EST
DTSTART:20261101T060000
END:STANDARD
BEGIN:DAYLIGHT
TZOFFSETFROM:-0500
TZOFFSETTO:-0400
TZNAME:EDT
DTSTART:20270314T070000
END:DAYLIGHT
BEGIN:STANDARD
TZOFFSETFROM:-0400
TZOFFSETTO:-0500
TZNAME:EST
DTSTART:20271107T060000
END:STANDARD
END:VTIMEZONE
BEGIN:VEVENT
DTSTART;TZID=America/New_York:20260313T100000
DTEND;TZID=America/New_York:20260313T120000
DTSTAMP:20260422T132209
CREATED:20260206T211947Z
LAST-MODIFIED:20260206T212108Z
UID:7514-1773396000-1773403200@chattanoogaphoto.org
SUMMARY:Coffee and Cameras
DESCRIPTION:13 February\, 10-noon\nMaple Street Biscuit Company\n2114 Gunbarrel Rd \nThis is open to members or non-members. Bring your cameras\, questions\, portfolios\, Ipads\, a friend\, yourself\, whatever. Let’s talk some art. \nWe had a suggestion to bring 10-20 images to share with others\, whether digitally or printed. If you are interested\, please bring them in a way that others can handle them without hurting them. We look forward to seeing what everyone is creating!
URL:https://chattanoogaphoto.org/event/coffee-and-cameras-3-2/
LOCATION:Maple Street Biscuit Company\, 2114 Gunbarrel Rd\, Chattanooga\, TN\, 37421\, United States
CATEGORIES:Social
END:VEVENT
END:VCALENDAR