BEGIN:VCALENDAR
VERSION:2.0
PRODID:-//Photographic Society of Chattanooga - ECPv6.15.20//NONSGML v1.0//EN
CALSCALE:GREGORIAN
METHOD:PUBLISH
X-ORIGINAL-URL:https://chattanoogaphoto.org
X-WR-CALDESC:Events for Photographic Society of Chattanooga
REFRESH-INTERVAL;VALUE=DURATION:PT1H
X-Robots-Tag:noindex
X-PUBLISHED-TTL:PT1H
BEGIN:VTIMEZONE
TZID:America/New_York
BEGIN:DAYLIGHT
TZOFFSETFROM:-0500
TZOFFSETTO:-0400
TZNAME:EDT
DTSTART:20210314T070000
END:DAYLIGHT
BEGIN:STANDARD
TZOFFSETFROM:-0400
TZOFFSETTO:-0500
TZNAME:EST
DTSTART:20211107T060000
END:STANDARD
BEGIN:DAYLIGHT
TZOFFSETFROM:-0500
TZOFFSETTO:-0400
TZNAME:EDT
DTSTART:20220313T070000
END:DAYLIGHT
BEGIN:STANDARD
TZOFFSETFROM:-0400
TZOFFSETTO:-0500
TZNAME:EST
DTSTART:20221106T060000
END:STANDARD
BEGIN:DAYLIGHT
TZOFFSETFROM:-0500
TZOFFSETTO:-0400
TZNAME:EDT
DTSTART:20230312T070000
END:DAYLIGHT
BEGIN:STANDARD
TZOFFSETFROM:-0400
TZOFFSETTO:-0500
TZNAME:EST
DTSTART:20231105T060000
END:STANDARD
BEGIN:DAYLIGHT
TZOFFSETFROM:-0500
TZOFFSETTO:-0400
TZNAME:EDT
DTSTART:20240310T070000
END:DAYLIGHT
BEGIN:STANDARD
TZOFFSETFROM:-0400
TZOFFSETTO:-0500
TZNAME:EST
DTSTART:20241103T060000
END:STANDARD
BEGIN:DAYLIGHT
TZOFFSETFROM:-0500
TZOFFSETTO:-0400
TZNAME:EDT
DTSTART:20250309T070000
END:DAYLIGHT
BEGIN:STANDARD
TZOFFSETFROM:-0400
TZOFFSETTO:-0500
TZNAME:EST
DTSTART:20251102T060000
END:STANDARD
BEGIN:DAYLIGHT
TZOFFSETFROM:-0500
TZOFFSETTO:-0400
TZNAME:EDT
DTSTART:20260308T070000
END:DAYLIGHT
BEGIN:STANDARD
TZOFFSETFROM:-0400
TZOFFSETTO:-0500
TZNAME:EST
DTSTART:20261101T060000
END:STANDARD
BEGIN:DAYLIGHT
TZOFFSETFROM:-0500
TZOFFSETTO:-0400
TZNAME:EDT
DTSTART:20270314T070000
END:DAYLIGHT
BEGIN:STANDARD
TZOFFSETFROM:-0400
TZOFFSETTO:-0500
TZNAME:EST
DTSTART:20271107T060000
END:STANDARD
END:VTIMEZONE
BEGIN:VEVENT
DTSTART;TZID=America/New_York:20260123T180000
DTEND;TZID=America/New_York:20260123T200000
DTSTAMP:20260421T112028
CREATED:20251231T165259Z
LAST-MODIFIED:20251231T165259Z
UID:7441-1769191200-1769198400@chattanoogaphoto.org
SUMMARY:Gallery Reception Blackwell Automotive
DESCRIPTION:Join Milton McLain to open the next gallery of PSC club members at Blackwell Automotive. Bring your friends and family! \n 
URL:https://chattanoogaphoto.org/event/gallery-reception-blackwell-automotive/
LOCATION:Blackwell Automotive\, 71 Eastgate Loop\, Chattanooga\, TN\, 37411\, United States
CATEGORIES:Special Events
END:VEVENT
BEGIN:VEVENT
DTSTART;TZID=America/New_York:20251218T180000
DTEND;TZID=America/New_York:20251218T200000
DTSTAMP:20260421T112028
CREATED:20251118T183528Z
LAST-MODIFIED:20251118T203349Z
UID:7332-1766080800-1766088000@chattanoogaphoto.org
SUMMARY:Christmas Banquet
DESCRIPTION: 
URL:https://chattanoogaphoto.org/event/christmas-banquet-3/
LOCATION:St\, John United Methodist Church\, 3921 Murray Hills Dr\,\, Chattanooga\, TN\, 37416\, United States
CATEGORIES:Special Events
END:VEVENT
BEGIN:VEVENT
DTSTART;TZID=America/New_York:20251216T160000
DTEND;TZID=America/New_York:20251216T173000
DTSTAMP:20260421T112028
CREATED:20251231T165014Z
LAST-MODIFIED:20251231T165014Z
UID:7436-1765900800-1765906200@chattanoogaphoto.org
SUMMARY:Gallery Change-out  Blackwell Automotive
DESCRIPTION:New pictures are due January 15 and 16\, 4-5:30pm at Blackwell Automotive\, 71 Eastgate Loop. All members are welcome. Pictures in the current show are due for pickup then also. \nBring pictures from your recent projects ready to hang. Pictures from the Annual contest are invited. They can be displayed along with ribbons if desired. This is a club show\, not a juried gallery\, but pic-tures should be ready to hang\, either framed\, metal or canvas wrapped. A hanging wire is best. They need to have a title and price. If you have not previously participated\, I urge you to visit the gallery at the Blackwell Automotive Building\, open Monday – Friday\, 7:30am-5:30pm\, to see what members are doing. For additional information\, see the club website under Activities/Exhibits. \nThe opening reception is scheduled for Jan 23rd from 6:00-8:00pm. All are welcome. Bring friends \nKeep Shooting\, \nMilton
URL:https://chattanoogaphoto.org/event/gallery-change-out-blackwell-automotive/
LOCATION:Blackwell Automotive\, 71 Eastgate Loop\, Chattanooga\, TN\, 37411\, United States
CATEGORIES:Special Events
END:VEVENT
BEGIN:VEVENT
DTSTART;TZID=America/New_York:20230914T180000
DTEND;TZID=America/New_York:20230914T200000
DTSTAMP:20260421T112028
CREATED:20230801T144306Z
LAST-MODIFIED:20230801T150853Z
UID:5572-1694714400-1694721600@chattanoogaphoto.org
SUMMARY:Annual Picnic
DESCRIPTION:Picnic Payment\n      \n\n\n\n        \n            One Person $15.00 USD\n          \n            Two People $30.00 USD\n          \n            Three People $45.00 USD\n          \n            Four People $60.00 USD
URL:https://chattanoogaphoto.org/event/annual-picnic/
LOCATION:Harrison Bay State Park Pavillion\, 7855 Bay Marina Circle\, Harrison\, 37341\, United States
CATEGORIES:Special Events
END:VEVENT
BEGIN:VEVENT
DTSTART;TZID=America/New_York:20221215T180000
DTEND;TZID=America/New_York:20221215T203000
DTSTAMP:20260421T112028
CREATED:20221005T191317Z
LAST-MODIFIED:20221005T191317Z
UID:4807-1671127200-1671136200@chattanoogaphoto.org
SUMMARY:Christmas Banquet
DESCRIPTION:
URL:https://chattanoogaphoto.org/event/christmas-banquet/
LOCATION:St\, John United Methodist Church\, 3921 Murray Hills Dr\,\, Chattanooga\, TN\, 37416\, United States
CATEGORIES:Special Events
END:VEVENT
BEGIN:VEVENT
DTSTART;TZID=America/New_York:20221001T100000
DTEND;TZID=America/New_York:20221001T130000
DTSTAMP:20260421T112028
CREATED:20220820T212109Z
LAST-MODIFIED:20220820T230913Z
UID:4641-1664618400-1664629200@chattanoogaphoto.org
SUMMARY:Lin Blackwell-Prabish Seminar
DESCRIPTION:On October 1\, 2022\, the Photographic Society of Chattanooga will sponsor\na seminar with local artist Lin Blackwell-Prabish. \nProfessional Photographer and Artist Lin Blackwell-Prabish will instruct\na class on applying Art Mediums to your photographs! The 3-hour class\nwill include a history of different art mediums and actual hands-on\npractice. All supplies needed will be there for you to sample. You only\nneed to bring paper and a pencil to take notes. \nShe will touch on Colored Pencils\, watercolors\, Sprays\, and different\ntypes of paper. The “Goals” of this class are learning about\nEnhancement and what is an Original! The most important “Goal” in this\nclass is\, what is it you like?! You will have 3 hours of highlights from\nher regular class\, Advanced Hand-coloring with Various Art Mediums. \nLin has had many people ask her over the years\, is that a painting or a\nphotograph? Lin said\, at first\, she was offended by the question until\nshe figured out that it was a very high compliment. She is still asked\nthat same old question today\, but it has now become part of her style. \nLin’s artwork is on display in museums in Alabama\, Illinois\, and North\nCarolina\, The Gallery at Blackwell in Chattanooga\, and the Craft Axe\nThrowing Sports Complex in Chattanooga. \nCheck out her website: Linbprabishartist.com \nThe registration fee for the seminar is $35.  To pay and register go to\nwww.chattanoogaphoto.org\, go to Education and Workshops and click on the\nPay Pal button at the bottom of the page. \nThe seminar will be from 10:00 a.m. to 1:00 p.m. at the St. John United\nMethodist Church\, 3921 Murray Hills Drive\, Chattanooga\, TN 37416.  For\nmore information call 423-800-1002 or e-mail Lin Prabish at\nlinstouch@gmail.com.  For more information about the Photographic\nSociety of Chattanooga\, visit https://chattanoogaphoto.org.
URL:https://chattanoogaphoto.org/event/lin-blackwell-prabish-seminar/
CATEGORIES:Special Events
END:VEVENT
BEGIN:VEVENT
DTSTART;TZID=America/New_York:20220929T180000
DTEND;TZID=America/New_York:20220929T200000
DTSTAMP:20260421T112028
CREATED:20220823T201108Z
LAST-MODIFIED:20220902T151409Z
UID:4657-1664474400-1664481600@chattanoogaphoto.org
SUMMARY:Fall Picnic
DESCRIPTION:The annual picnic is coming up on September 29th\, 6-8PM at the Harrison Bay State Park Pavilion. The cost is $15.00 per person to cover the meal. You may pay via PayPal on the signup form or you can mail a check to the Photographic Society of Chattanooga\, P.O. Box 8886\, Chattanooga\, TN 37414. \nWe will be voting for our new slate of officers and directors and viewing the 3rd Quarter contest results. \n\n                    Annual Fall Picnic Registration FormΔ CHATTANOOGA PHOTOGRAPHY SOCIETY FALL SOCIALHARRISON BAY STATE PARK PAVILLION7855 Bay Marina Circle\, Harrison\, TN 37341MENU\n\nBarbecue with buns\nChicken Fingers (for those that do not eat pork)\nColeslaw\nPotato Salad\nBeans\nSweet & Unsweet tea\nFirst NameLast NameFirst NameLast NameFirst NameLast NameFirst NameLast NameFirst NameLast NameFirst NameLast NameCOST PER PERSON: $15.00Number of people attending in your family or groupSubmit Form
URL:https://chattanoogaphoto.org/event/fall-picnic-2/
CATEGORIES:Special Events
END:VEVENT
BEGIN:VEVENT
DTSTART;TZID=America/New_York:20220618T090000
DTEND;TZID=America/New_York:20220618T170000
DTSTAMP:20260421T112028
CREATED:20220503T195412Z
LAST-MODIFIED:20220516T151518Z
UID:4325-1655542800-1655571600@chattanoogaphoto.org
SUMMARY:Lightroom Photo Editing - One Day Workshop
DESCRIPTION:The Photographic Society of Chattanooga will conduct a one day workshop on digital photo editing using Adobe Lightroom\, on Saturday June 18\, 2022 at St. John United Methodist Church.  The course is designed for beginners\, no previous experience with photo editing is needed. People who have some prior experience with Lightroom but want a basic overview will also benefit from the workshop. \nLightroom is one of the most powerful and popular photo editing programs in the world. The objective of the course is to teach the basic image editing skills that will result in an immediate and dramatic improvement in your digital photographs. Information about additional sources to help further develop your photo editing skills will be provided. Instruction about downloading and installing the Lightroom program will be given. \n \nThe course is based on Adobe Lightroom Classic\, but there  there is great overlap with the editing tools in Lightroom Mobile and Adobe Camera RAW. Although we are calling this a “workshop\,” our goal is to make this more fun than work. \nThe workshop will begin at 9:00 a.m.. St. John United Methodist Church is located at  3921 Murray Hills Dr. off Highway 58.  Be sure to click the Buy Now button. \n  \nThe cost of the workshop is $25. 
URL:https://chattanoogaphoto.org/event/lightroom-photo-editing-one-day-workshop/
LOCATION:St\, John United Methodist Church\, 3921 Murray Hills Dr\,\, Chattanooga\, TN\, 37416\, United States
CATEGORIES:Special Events
END:VEVENT
BEGIN:VEVENT
DTSTART;TZID=America/New_York:20220430T071500
DTEND;TZID=America/New_York:20220430T180000
DTSTAMP:20260421T112028
CREATED:20220207T212057Z
LAST-MODIFIED:20220208T155706Z
UID:2572-1651302900-1651341600@chattanoogaphoto.org
SUMMARY:NG3C Shootout
DESCRIPTION:About 12 photo clubs from the North Georgia area (and a couple of Tenn clubs) will meet in Dallas\, GA. on April 30\, at 7:15am till 6pm. We will photograph according to five  topics drawn from a hat. There will be door prizes\, judging for places 1 thru 10 in each category\, photography vendors\, and interesting topical presentations while we wait for the judging. More information to follow. \nContact Pat Gordy or Jim Mears if you are interested.\n\n\n  \nBelow are examples of last year’s shootout:
URL:https://chattanoogaphoto.org/event/ng3c-event/
LOCATION:Chattahoochee Technical College – Paulding Campus\, 400 Nathan Dean Blvd\, Dallas\, GA\, 30132\, United States
CATEGORIES:Special Events
END:VEVENT
END:VCALENDAR