BEGIN:VCALENDAR
VERSION:2.0
PRODID:-//Photographic Society of Chattanooga - ECPv6.15.20//NONSGML v1.0//EN
CALSCALE:GREGORIAN
METHOD:PUBLISH
X-ORIGINAL-URL:https://chattanoogaphoto.org
X-WR-CALDESC:Events for Photographic Society of Chattanooga
REFRESH-INTERVAL;VALUE=DURATION:PT1H
X-Robots-Tag:noindex
X-PUBLISHED-TTL:PT1H
BEGIN:VTIMEZONE
TZID:America/New_York
BEGIN:DAYLIGHT
TZOFFSETFROM:-0500
TZOFFSETTO:-0400
TZNAME:EDT
DTSTART:20250309T070000
END:DAYLIGHT
BEGIN:STANDARD
TZOFFSETFROM:-0400
TZOFFSETTO:-0500
TZNAME:EST
DTSTART:20251102T060000
END:STANDARD
BEGIN:DAYLIGHT
TZOFFSETFROM:-0500
TZOFFSETTO:-0400
TZNAME:EDT
DTSTART:20260308T070000
END:DAYLIGHT
BEGIN:STANDARD
TZOFFSETFROM:-0400
TZOFFSETTO:-0500
TZNAME:EST
DTSTART:20261101T060000
END:STANDARD
BEGIN:DAYLIGHT
TZOFFSETFROM:-0500
TZOFFSETTO:-0400
TZNAME:EDT
DTSTART:20270314T070000
END:DAYLIGHT
BEGIN:STANDARD
TZOFFSETFROM:-0400
TZOFFSETTO:-0500
TZNAME:EST
DTSTART:20271107T060000
END:STANDARD
END:VTIMEZONE
BEGIN:VEVENT
DTSTART;TZID=America/New_York:20260611T180000
DTEND;TZID=America/New_York:20260611T200000
DTSTAMP:20260421T092658
CREATED:20260116T180151Z
LAST-MODIFIED:20260416T194815Z
UID:7468-1781200800-1781208000@chattanoogaphoto.org
SUMMARY:Annual Picnic
DESCRIPTION:PSC PICNIC 2026 DETAILS \nThe picnic buffet for this year’s picnic will be provided by Hwy 58 Bar-B-Que. The menu will be: \n\nSmoked chicken\nPulled pork\nMacaroni & Cheese\nSlaw\nApple Cobbler\nBuns & BBQ sauce\nTea (un/sweet)\n\nThe charge is $15.00 per plate. Reservations must be made by June 5th. \n\n  \n   \n\n\n\n        \n        Picnic Payment\n      \n\n\n\n        \n            One Person $15.00 USD\n          \n            Two People $30.00 USD\n          \n            Three People $45.00 USD\n          \n            Four People $60.00 USD
URL:https://chattanoogaphoto.org/event/annual-picnic-2/
LOCATION:Harrison Bay State Park Pavillion\, 7855 Bay Marina Circle\, Harrison\, 37341\, United States
CATEGORIES:Special Events
END:VEVENT
BEGIN:VEVENT
DTSTART;TZID=America/New_York:20260917T180000
DTEND;TZID=America/New_York:20260917T200000
DTSTAMP:20260421T092658
CREATED:20260116T180317Z
LAST-MODIFIED:20260116T180317Z
UID:7471-1789668000-1789675200@chattanoogaphoto.org
SUMMARY:Open House
DESCRIPTION:Details are To Be Determined. We want to let everyone know early that the date has changed. 
URL:https://chattanoogaphoto.org/event/open-house/
LOCATION:St\, John United Methodist Church\, 3921 Murray Hills Dr\,\, Chattanooga\, TN\, 37416\, United States
CATEGORIES:Special Events
END:VEVENT
BEGIN:VEVENT
DTSTART;TZID=America/New_York:20261017T073000
DTEND;TZID=America/New_York:20261017T190000
DTSTAMP:20260421T092658
CREATED:20260313T000641Z
LAST-MODIFIED:20260313T000641Z
UID:7570-1792222200-1792263600@chattanoogaphoto.org
SUMMARY:NG3C Shoot Out 2026
DESCRIPTION:
URL:https://chattanoogaphoto.org/event/ng3c-shoot-out-2026/
LOCATION:Chattahoochee Technical College – Paulding Campus\, 400 Nathan Dean Blvd\, Dallas\, GA\, 30132\, United States
CATEGORIES:Special Events
END:VEVENT
BEGIN:VEVENT
DTSTART;VALUE=DATE:20261024
DTEND;VALUE=DATE:20261026
DTSTAMP:20260421T092658
CREATED:20260319T164117Z
LAST-MODIFIED:20260319T164117Z
UID:7584-1792800000-1792972799@chattanoogaphoto.org
SUMMARY:Between the Bridges Art Festival
DESCRIPTION:The club is looking to sponsor a booth as a fundraiser. Club members will have an opportunity to sell their images. Contact Howard Kaplan for more information (contact info in the newsletter).
URL:https://chattanoogaphoto.org/event/between-the-bridges-art-festival/
CATEGORIES:Special Events
END:VEVENT
END:VCALENDAR